BEGIN:VCALENDAR
VERSION:2.0
PRODID:icalendar-ruby
CALSCALE:GREGORIAN
METHOD:PUBLISH
BEGIN:VEVENT
DTSTAMP:20260421T085105Z
UID:16-232533@newlifehudson.org
DTSTART;VALUE=DATE:20260425
DTEND;VALUE=DATE:20260425
CLASS:PUBLIC
CREATED:20260415T062606
DESCRIPTION:All you green thumbs and willing hands\, join us at 9am to help
  us spruce up the gardens and landscape for spring.
LAST-MODIFIED:20260415T062606
LOCATION:
SUMMARY:Service Day - Landscaping 
URL;VALUE=URI:https://newlifehudson.org/events/service-day-landscaping/2026
 -04-25
ATTACH;FILENAME=Add-a-heading-1.png;FMTTYPE=image/png:https://dq5pwpg1q8ru0
 .cloudfront.net/2026/04/15/10/25/24/6b7c2ae4-93f8-4d90-a752-078b5ca5c71b/A
 dd-a-heading-1.png
END:VEVENT
END:VCALENDAR
